Workbook

Sheet キャッシュフロー表
B1: キャッシュフロー表（単位：万円）
B2: 経過年数 | E2: 係数 | F2: 現在 | G2: 1 | H2: 2 | I2: 3 | J2: 4 | K2: 5 | L2: 6 | M2: 7 | N2: 8 | O2: 9 | P2: 10 | Q2: 11 | R2: 12 | S2: 13 | T2: 14 | U2: 15 | V2: 16 | W2: 17 | X2: 18 | Y2: 19 | Z2: 20 | AA2: 21 | AB2: 22 | AC2: 23 | AD2: 24 | AE2: 25 | AF2: 26 | AG2: 27 | AH2: 28 | AI2: 29 | AJ2: 30 | AK2: 31 | AL2: 32 | AM2: 33 | AN2: 34 | AO2: 35 | AP2: 36 | AQ2: 37 | AR2: 38 | AS2: 39 | AT2: 40 | AU2: 41 | AV2: 42 | AW2: 43 | AX2: 44 | AY2: 45 | AZ2: 46 | BA2: 47 | BB2: 48 | BC2: 49 | BD2: 50
B3: 西暦年 | F3: 2026 | G3: =F3+1 -> 2027 | H3: =G3+1 -> 2028 | I3: =H3+1 -> 2029 | J3: =I3+1 -> 2030 | K3: =J3+1 -> 2031 | L3: =K3+1 -> 2032 | M3: =L3+1 -> 2033 | N3: =M3+1 -> 2034 | ... BD3: =BC3+1 -> 2076
B4: 家族構成 | C4: 本人）春夫 | F4: 50 | G4: =IF($F4<>"",F4+1,"") -> 51 | H4: =IF($F4<>"",G4+1,"") -> 52 | I4: =IF($F4<>"",H4+1,"") -> 53 | J4: =IF($F4<>"",I4+1,"") -> 54 | K4: =IF($F4<>"",J4+1,"") -> 55 | L4: =IF($F4<>"",K4+1,"") -> 56 | M4: =IF($F4<>"",L4+1,"") -> 57 | N4: =IF($F4<>"",M4+1,"") -> 58 | ... BD4: =IF($F4<>"",BC4+1,"") -> 100
C5: 配偶者）夏子 | F5: 45 | G5: =IF($F5<>"",F5+1,"") -> 46 | H5: =IF($F5<>"",G5+1,"") -> 47 | I5: =IF($F5<>"",H5+1,"") -> 48 | J5: =IF($F5<>"",I5+1,"") -> 49 | K5: =IF($F5<>"",J5+1,"") -> 50 | L5: =IF($F5<>"",K5+1,"") -> 51 | M5: =IF($F5<>"",L5+1,"") -> 52 | N5: =IF($F5<>"",M5+1,"") -> 53 | ... BD5: =IF($F5<>"",BC5+1,"") -> 95
C6: 1子）秋菜 | F6: 15 | G6: =IF($F6<>"",F6+1,"") -> 16 | H6: =IF($F6<>"",G6+1,"") -> 17 | I6: =IF($F6<>"",H6+1,"") -> 18 | J6: =IF($F6<>"",I6+1,"") -> 19 | K6: =IF($F6<>"",J6+1,"") -> 20 | L6: =IF($F6<>"",K6+1,"") -> 21 | M6: =IF($F6<>"",L6+1,"") -> 22 | N6: =IF($F6<>"",M6+1,"") -> 23 | ... BD6: =IF($F6<>"",BC6+1,"") -> 65
C7: 2子）冬樹 | F7: 13 | G7: =IF($F7<>"",F7+1,"") -> 14 | H7: =IF($F7<>"",G7+1,"") -> 15 | I7: =IF($F7<>"",H7+1,"") -> 16 | J7: =IF($F7<>"",I7+1,"") -> 17 | K7: =IF($F7<>"",J7+1,"") -> 18 | L7: =IF($F7<>"",K7+1,"") -> 19 | M7: =IF($F7<>"",L7+1,"") -> 20 | N7: =IF($F7<>"",M7+1,"") -> 21 | ... BD7: =IF($F7<>"",BC7+1,"") -> 63
G8: =IF($F8<>"",F8+1,"") | H8: =IF($F8<>"",G8+1,"") | I8: =IF($F8<>"",H8+1,"") | J8: =IF($F8<>"",I8+1,"") | K8: =IF($F8<>"",J8+1,"") | L8: =IF($F8<>"",K8+1,"") | M8: =IF($F8<>"",L8+1,"") | N8: =IF($F8<>"",M8+1,"") | ... BD8: =IF($F8<>"",BC8+1,"")
G9: =IF($F9<>"",F9+1,"") | H9: =IF($F9<>"",G9+1,"") | I9: =IF($F9<>"",H9+1,"") | J9: =IF($F9<>"",I9+1,"") | K9: =IF($F9<>"",J9+1,"") | L9: =IF($F9<>"",K9+1,"") | M9: =IF($F9<>"",L9+1,"") | N9: =IF($F9<>"",M9+1,"") | ... BD9: =IF($F9<>"",BC9+1,"")
B10: ライフイベント | C10: 出来事
C11: 費用（メモ）
B14: 収入 | C14: 給与・賞与 | D14: 本人
D15: 配偶者
C16: 企業年金 （一時金・年金） | D16: 本人
D17: 配偶者
C18: 個人年金 （一時金・年金） | D18: 本人
D19: 配偶者
C20: 公的年金 | D20: 本人
D21: 配偶者
C22: DC・iDeCo （一時金・年金） | D22: 本人
D23: 配偶者
C24: その他収入
C25: 収入合計 | F25: =SUM(F14:F24) -> 0 | G25: =SUM(G14:G24) -> 0 | H25: =SUM(H14:H24) -> 0 | I25: =SUM(I14:I24) -> 0 | J25: =SUM(J14:J24) -> 0 | K25: =SUM(K14:K24) -> 0 | L25: =SUM(L14:L24) -> 0 | M25: =SUM(M14:M24) -> 0 | ... BD25: =SUM(BD14:BD24) -> 0
B27: 支出 | C27: 基本生活費
C28: 住居費
C29: 住宅ローン
C30: 教育費
C31: 保険料
C32: その他の支出
C33: 一時的な支出
C34: 支出合計 | F34: =SUM(F27:F33) -> 0 | G34: =SUM(G27:G33) -> 0 | H34: =SUM(H27:H33) -> 0 | I34: =SUM(I27:I33) -> 0 | J34: =SUM(J27:J33) -> 0 | K34: =SUM(K27:K33) -> 0 | L34: =SUM(L27:L33) -> 0 | M34: =SUM(M27:M33) -> 0 | ... BD34: =SUM(BD27:BD33) -> 0
B36: 年間収支（収入－支出） | F36: =F25-F34 -> 0 | G36: =G25-G34 -> 0 | H36: =H25-H34 -> 0 | I36: =I25-I34 -> 0 | J36: =J25-J34 -> 0 | K36: =K25-K34 -> 0 | L36: =L25-L34 -> 0 | M36: =M25-M34 -> 0 | ... BD36: =BD25-BD34 -> 0
C38: 平均利回り | E38: 0.01
C39: 資金（貯蓄）残高 | E39: 2000 | F39: =IF(E39<=0,E39+F36,E39*(1+$E$38)+F36) -> 2020 | G39: =IF(F39<=0,F39+G36,F39*(1+$E$38)+G36) -> 2040.2 | H39: =IF(G39<=0,G39+H36,G39*(1+$E$38)+H36) -> 2060.602 | I39: =IF(H39<=0,H39+I36,H39*(1+$E$38)+I36) -> 2081.208 | J39: =IF(I39<=0,I39+J36,I39*(1+$E$38)+J36) -> 2102.0201 | K39: =IF(J39<=0,J39+K36,J39*(1+$E$38)+K36) -> 2123.0403 | L39: =IF(K39<=0,K39+L36,K39*(1+$E$38)+L36) -> 2144.2707 | M39: =IF(L39<=0,L39+M36,L39*(1+$E$38)+M36) -> 2165.7134 | ... BD39: =IF(BC39<=0,BC39+BD36,BC39*(1+$E$38)+BD36) -> 3322.1563
C40: その他金融資産残高
C41: 金融資産残高 | F41: =SUM(F39:F40) -> 2020 | G41: =SUM(G39:G40) -> 2040.2 | H41: =SUM(H39:H40) -> 2060.602 | I41: =SUM(I39:I40) -> 2081.208 | J41: =SUM(J39:J40) -> 2102.0201 | K41: =SUM(K39:K40) -> 2123.0403 | L41: =SUM(L39:L40) -> 2144.2707 | M41: =SUM(M39:M40) -> 2165.7134 | ... BD41: =SUM(BD39:BD40) -> 3322.1563

Sheet 使い方
A1: 無料キャッシュフロー表 使い方
A3: 黄色のセルだけ入力すると、年間収支と金融資産残高が自動計算されます。
A5: 入力の流れ
A6: 1 | B6: 基準年と家族情報 | C6: 現在の西暦年、家族の名前と年齢を入力します。
A7: 2 | B7: ライフイベント | C7: 進学、退職、車の購入、住宅修繕などを該当年に入力します。
A8: 3 | B8: 収入 | C8: 給与、退職金、公的年金、企業年金、DC・iDeCoなどを年額で入力します。
A9: 4 | B9: 支出 | C9: 生活費、住居費、住宅ローン、教育費、保険料などを年額で入力します。
A10: 5 | B10: 金融資産 | C10: 平均利回りと前年末の金融資産残高を入力します。
A11: 6 | B11: 結果を確認 | C11: 年間収支、金融資産残高、結果・グラフを確認します。
A13: セルの色
A14: 表示 | B14: 意味 | C14: 操作
A15: 黄色・青文字 | B15: 入力セル | C15: 利用者が入力します
A16: 薄いグレー | B16: 自動計算セル | C16: 変更しません
A17: 濃い青・太字 | B17: 重要な結果 | C17: 年間収支や資産残高を確認します
A19: 入力時の注意
A20: ・金額の単位は万円です。例：年間120万円なら「120」と入力します。
A21: ・収入と支出は手取り額（可処分所得）を基本にしてください。
A22: ・発生しない年は空欄でも0円として計算されます。
A23: ・自動計算セルは変更しないでください。
A24: ・将来の金額は予測です。定期的に見直してください。

Sheet 結果・グラフ
A1: キャッシュフロー診断結果 | J1: グラフ・判定用データ
J2: 西暦年 | K2: 本人年齢 | L2: 年間収支 | M2: 金融資産残高 | N2: 赤字判定 | O2: 枯渇判定 | P2: 収入合計 | Q2: 支出合計
A3: 期首金融資産 | C3: 初回赤字年 | E3: 資産枯渇年 | G3: 枯渇時の本人年齢 | J3: =キャッシュフロー表!F3 -> 2026 | K3: =キャッシュフロー表!F4 -> 50 | L3: =キャッシュフロー表!F36 -> 0 | M3: =キャッシュフロー表!F41 -> 2020 | N3: =IF(L3<0,"赤字","") | O3: =IF(M3<0,"枯渇","") | P3: =キャッシュフロー表!F25 -> 0 | Q3: =キャッシュフロー表!F34 -> 0
A4: =キャッシュフロー表!E39 -> 2000 | C4: =IF(COUNTIF(N3:N53,"赤字")=0,"赤字なし",INDEX(J3:J53,MATCH("赤字",N3:N53,0))) -> 赤字なし | E4: =IF(COUNTIF(O3:O53,"枯渇")=0,"枯渇なし",INDEX(J3:J53,MATCH("枯渇",O3:O53,0))) -> 枯渇なし | G4: =IF(E4="枯渇なし","—",INDEX(K3:K53,MATCH(E4,J3:J53,0))) -> — | J4: =キャッシュフロー表!G3 -> 2027 | K4: =キャッシュフロー表!G4 -> 51 | L4: =キャッシュフロー表!G36 -> 0 | M4: =キャッシュフロー表!G41 -> 2040.2 | N4: =IF(L4<0,"赤字","") | O4: =IF(M4<0,"枯渇","") | P4: =キャッシュフロー表!G25 -> 0 | Q4: =キャッシュフロー表!G34 -> 0
J5: =キャッシュフロー表!H3 -> 2028 | K5: =キャッシュフロー表!H4 -> 52 | L5: =キャッシュフロー表!H36 -> 0 | M5: =キャッシュフロー表!H41 -> 2060.602 | N5: =IF(L5<0,"赤字","") | O5: =IF(M5<0,"枯渇","") | P5: =キャッシュフロー表!H25 -> 0 | Q5: =キャッシュフロー表!H34 -> 0
A6: 期間内最低残高 | C6: 最終年残高 | E6: 退職予定年齢 | G6: 退職時の金融資産 | J6: =キャッシュフロー表!I3 -> 2029 | K6: =キャッシュフロー表!I4 -> 53 | L6: =キャッシュフロー表!I36 -> 0 | M6: =キャッシュフロー表!I41 -> 2081.208 | N6: =IF(L6<0,"赤字","") | O6: =IF(M6<0,"枯渇","") | P6: =キャッシュフロー表!I25 -> 0 | Q6: =キャッシュフロー表!I34 -> 0
A7: =MIN(キャッシュフロー表!F41:BD41) -> 2020 | C7: =キャッシュフロー表!BD41 -> 3322.1563 | E7: 60 | G7: =IFERROR(INDEX(キャッシュフロー表!F41:BD41,1,MATCH(E7,キャッシュフロー表!F4:BD4,0)),"対象期間外") -> 2231.3367 | J7: =キャッシュフロー表!J3 -> 2030 | K7: =キャッシュフロー表!J4 -> 54 | L7: =キャッシュフロー表!J36 -> 0 | M7: =キャッシュフロー表!J41 -> 2102.0201 | N7: =IF(L7<0,"赤字","") | O7: =IF(M7<0,"枯渇","") | P7: =キャッシュフロー表!J25 -> 0 | Q7: =キャッシュフロー表!J34 -> 0
J8: =キャッシュフロー表!K3 -> 2031 | K8: =キャッシュフロー表!K4 -> 55 | L8: =キャッシュフロー表!K36 -> 0 | M8: =キャッシュフロー表!K41 -> 2123.0403 | N8: =IF(L8<0,"赤字","") | O8: =IF(M8<0,"枯渇","") | P8: =キャッシュフロー表!K25 -> 0 | Q8: =キャッシュフロー表!K34 -> 0
A9: 期間内最低残高：2026～2076年で最も少ない残高 ／ 最終年残高：最終年（2076年）時点の残高 | J9: =キャッシュフロー表!L3 -> 2032 | K9: =キャッシュフロー表!L4 -> 56 | L9: =キャッシュフロー表!L36 -> 0 | M9: =キャッシュフロー表!L41 -> 2144.2707 | N9: =IF(L9<0,"赤字","") | O9: =IF(M9<0,"枯渇","") | P9: =キャッシュフロー表!L25 -> 0 | Q9: =キャッシュフロー表!L34 -> 0
J10: =キャッシュフロー表!M3 -> 2033 | K10: =キャッシュフロー表!M4 -> 57 | L10: =キャッシュフロー表!M36 -> 0 | M10: =キャッシュフロー表!M41 -> 2165.7134 | N10: =IF(L10<0,"赤字","") | O10: =IF(M10<0,"枯渇","") | P10: =キャッシュフロー表!M25 -> 0 | Q10: =キャッシュフロー表!M34 -> 0
J11: =キャッシュフロー表!N3 -> 2034 | K11: =キャッシュフロー表!N4 -> 58 | L11: =キャッシュフロー表!N36 -> 0 | M11: =キャッシュフロー表!N41 -> 2187.3705 | N11: =IF(L11<0,"赤字","") | O11: =IF(M11<0,"枯渇","") | P11: =キャッシュフロー表!N25 -> 0 | Q11: =キャッシュフロー表!N34 -> 0
J12: =キャッシュフロー表!O3 -> 2035 | K12: =キャッシュフロー表!O4 -> 59 | L12: =キャッシュフロー表!O36 -> 0 | M12: =キャッシュフロー表!O41 -> 2209.2443 | N12: =IF(L12<0,"赤字","") | O12: =IF(M12<0,"枯渇","") | P12: =キャッシュフロー表!O25 -> 0 | Q12: =キャッシュフロー表!O34 -> 0
J13: =キャッシュフロー表!P3 -> 2036 | K13: =キャッシュフロー表!P4 -> 60 | L13: =キャッシュフロー表!P36 -> 0 | M13: =キャッシュフロー表!P41 -> 2231.3367 | N13: =IF(L13<0,"赤字","") | O13: =IF(M13<0,"枯渇","") | P13: =キャッシュフロー表!P25 -> 0 | Q13: =キャッシュフロー表!P34 -> 0
J14: =キャッシュフロー表!Q3 -> 2037 | K14: =キャッシュフロー表!Q4 -> 61 | L14: =キャッシュフロー表!Q36 -> 0 | M14: =キャッシュフロー表!Q41 -> 2253.6501 | N14: =IF(L14<0,"赤字","") | O14: =IF(M14<0,"枯渇","") | P14: =キャッシュフロー表!Q25 -> 0 | Q14: =キャッシュフロー表!Q34 -> 0
J15: =キャッシュフロー表!R3 -> 2038 | K15: =キャッシュフロー表!R4 -> 62 | L15: =キャッシュフロー表!R36 -> 0 | M15: =キャッシュフロー表!R41 -> 2276.1866 | N15: =IF(L15<0,"赤字","") | O15: =IF(M15<0,"枯渇","") | P15: =キャッシュフロー表!R25 -> 0 | Q15: =キャッシュフロー表!R34 -> 0
J16: =キャッシュフロー表!S3 -> 2039 | K16: =キャッシュフロー表!S4 -> 63 | L16: =キャッシュフロー表!S36 -> 0 | M16: =キャッシュフロー表!S41 -> 2298.9484 | N16: =IF(L16<0,"赤字","") | O16: =IF(M16<0,"枯渇","") | P16: =キャッシュフロー表!S25 -> 0 | Q16: =キャッシュフロー表!S34 -> 0
J17: =キャッシュフロー表!T3 -> 2040 | K17: =キャッシュフロー表!T4 -> 64 | L17: =キャッシュフロー表!T36 -> 0 | M17: =キャッシュフロー表!T41 -> 2321.9379 | N17: =IF(L17<0,"赤字","") | O17: =IF(M17<0,"枯渇","") | P17: =キャッシュフロー表!T25 -> 0 | Q17: =キャッシュフロー表!T34 -> 0
J18: =キャッシュフロー表!U3 -> 2041 | K18: =キャッシュフロー表!U4 -> 65 | L18: =キャッシュフロー表!U36 -> 0 | M18: =キャッシュフロー表!U41 -> 2345.1573 | N18: =IF(L18<0,"赤字","") | O18: =IF(M18<0,"枯渇","") | P18: =キャッシュフロー表!U25 -> 0 | Q18: =キャッシュフロー表!U34 -> 0
J19: =キャッシュフロー表!V3 -> 2042 | K19: =キャッシュフロー表!V4 -> 66 | L19: =キャッシュフロー表!V36 -> 0 | M19: =キャッシュフロー表!V41 -> 2368.6089 | N19: =IF(L19<0,"赤字","") | O19: =IF(M19<0,"枯渇","") | P19: =キャッシュフロー表!V25 -> 0 | Q19: =キャッシュフロー表!V34 -> 0
J20: =キャッシュフロー表!W3 -> 2043 | K20: =キャッシュフロー表!W4 -> 67 | L20: =キャッシュフロー表!W36 -> 0 | M20: =キャッシュフロー表!W41 -> 2392.295 | N20: =IF(L20<0,"赤字","") | O20: =IF(M20<0,"枯渇","") | P20: =キャッシュフロー表!W25 -> 0 | Q20: =キャッシュフロー表!W34 -> 0
J21: =キャッシュフロー表!X3 -> 2044 | K21: =キャッシュフロー表!X4 -> 68 | L21: =キャッシュフロー表!X36 -> 0 | M21: =キャッシュフロー表!X41 -> 2416.2179 | N21: =IF(L21<0,"赤字","") | O21: =IF(M21<0,"枯渇","") | P21: =キャッシュフロー表!X25 -> 0 | Q21: =キャッシュフロー表!X34 -> 0
J22: =キャッシュフロー表!Y3 -> 2045 | K22: =キャッシュフロー表!Y4 -> 69 | L22: =キャッシュフロー表!Y36 -> 0 | M22: =キャッシュフロー表!Y41 -> 2440.3801 | N22: =IF(L22<0,"赤字","") | O22: =IF(M22<0,"枯渇","") | P22: =キャッシュフロー表!Y25 -> 0 | Q22: =キャッシュフロー表!Y34 -> 0
J23: =キャッシュフロー表!Z3 -> 2046 | K23: =キャッシュフロー表!Z4 -> 70 | L23: =キャッシュフロー表!Z36 -> 0 | M23: =キャッシュフロー表!Z41 -> 2464.7839 | N23: =IF(L23<0,"赤字","") | O23: =IF(M23<0,"枯渇","") | P23: =キャッシュフロー表!Z25 -> 0 | Q23: =キャッシュフロー表!Z34 -> 0
J24: =キャッシュフロー表!AA3 -> 2047 | K24: =キャッシュフロー表!AA4 -> 71 | L24: =キャッシュフロー表!AA36 -> 0 | M24: =キャッシュフロー表!AA41 -> 2489.4317 | N24: =IF(L24<0,"赤字","") | O24: =IF(M24<0,"枯渇","") | P24: =キャッシュフロー表!AA25 -> 0 | Q24: =キャッシュフロー表!AA34 -> 0
J25: =キャッシュフロー表!AB3 -> 2048 | K25: =キャッシュフロー表!AB4 -> 72 | L25: =キャッシュフロー表!AB36 -> 0 | M25: =キャッシュフロー表!AB41 -> 2514.326 | N25: =IF(L25<0,"赤字","") | O25: =IF(M25<0,"枯渇","") | P25: =キャッシュフロー表!AB25 -> 0 | Q25: =キャッシュフロー表!AB34 -> 0
J26: =キャッシュフロー表!AC3 -> 2049 | K26: =キャッシュフロー表!AC4 -> 73 | L26: =キャッシュフロー表!AC36 -> 0 | M26: =キャッシュフロー表!AC41 -> 2539.4693 | N26: =IF(L26<0,"赤字","") | O26: =IF(M26<0,"枯渇","") | P26: =キャッシュフロー表!AC25 -> 0 | Q26: =キャッシュフロー表!AC34 -> 0
J27: =キャッシュフロー表!AD3 -> 2050 | K27: =キャッシュフロー表!AD4 -> 74 | L27: =キャッシュフロー表!AD36 -> 0 | M27: =キャッシュフロー表!AD41 -> 2564.864 | N27: =IF(L27<0,"赤字","") | O27: =IF(M27<0,"枯渇","") | P27: =キャッシュフロー表!AD25 -> 0 | Q27: =キャッシュフロー表!AD34 -> 0
J28: =キャッシュフロー表!AE3 -> 2051 | K28: =キャッシュフロー表!AE4 -> 75 | L28: =キャッシュフロー表!AE36 -> 0 | M28: =キャッシュフロー表!AE41 -> 2590.5126 | N28: =IF(L28<0,"赤字","") | O28: =IF(M28<0,"枯渇","") | P28: =キャッシュフロー表!AE25 -> 0 | Q28: =キャッシュフロー表!AE34 -> 0
J29: =キャッシュフロー表!AF3 -> 2052 | K29: =キャッシュフロー表!AF4 -> 76 | L29: =キャッシュフロー表!AF36 -> 0 | M29: =キャッシュフロー表!AF41 -> 2616.4178 | N29: =IF(L29<0,"赤字","") | O29: =IF(M29<0,"枯渇","") | P29: =キャッシュフロー表!AF25 -> 0 | Q29: =キャッシュフロー表!AF34 -> 0
J30: =キャッシュフロー表!AG3 -> 2053 | K30: =キャッシュフロー表!AG4 -> 77 | L30: =キャッシュフロー表!AG36 -> 0 | M30: =キャッシュフロー表!AG41 -> 2642.5819 | N30: =IF(L30<0,"赤字","") | O30: =IF(M30<0,"枯渇","") | P30: =キャッシュフロー表!AG25 -> 0 | Q30: =キャッシュフロー表!AG34 -> 0
J31: =キャッシュフロー表!AH3 -> 2054 | K31: =キャッシュフロー表!AH4 -> 78 | L31: =キャッシュフロー表!AH36 -> 0 | M31: =キャッシュフロー表!AH41 -> 2669.0078 | N31: =IF(L31<0,"赤字","") | O31: =IF(M31<0,"枯渇","") | P31: =キャッシュフロー表!AH25 -> 0 | Q31: =キャッシュフロー表!AH34 -> 0
J32: =キャッシュフロー表!AI3 -> 2055 | K32: =キャッシュフロー表!AI4 -> 79 | L32: =キャッシュフロー表!AI36 -> 0 | M32: =キャッシュフロー表!AI41 -> 2695.6978 | N32: =IF(L32<0,"赤字","") | O32: =IF(M32<0,"枯渇","") | P32: =キャッシュフロー表!AI25 -> 0 | Q32: =キャッシュフロー表!AI34 -> 0
J33: =キャッシュフロー表!AJ3 -> 2056 | K33: =キャッシュフロー表!AJ4 -> 80 | L33: =キャッシュフロー表!AJ36 -> 0 | M33: =キャッシュフロー表!AJ41 -> 2722.6548 | N33: =IF(L33<0,"赤字","") | O33: =IF(M33<0,"枯渇","") | P33: =キャッシュフロー表!AJ25 -> 0 | Q33: =キャッシュフロー表!AJ34 -> 0
J34: =キャッシュフロー表!AK3 -> 2057 | K34: =キャッシュフロー表!AK4 -> 81 | L34: =キャッシュフロー表!AK36 -> 0 | M34: =キャッシュフロー表!AK41 -> 2749.8814 | N34: =IF(L34<0,"赤字","") | O34: =IF(M34<0,"枯渇","") | P34: =キャッシュフロー表!AK25 -> 0 | Q34: =キャッシュフロー表!AK34 -> 0
J35: =キャッシュフロー表!AL3 -> 2058 | K35: =キャッシュフロー表!AL4 -> 82 | L35: =キャッシュフロー表!AL36 -> 0 | M35: =キャッシュフロー表!AL41 -> 2777.3802 | N35: =IF(L35<0,"赤字","") | O35: =IF(M35<0,"枯渇","") | P35: =キャッシュフロー表!AL25 -> 0 | Q35: =キャッシュフロー表!AL34 -> 0
J36: =キャッシュフロー表!AM3 -> 2059 | K36: =キャッシュフロー表!AM4 -> 83 | L36: =キャッシュフロー表!AM36 -> 0 | M36: =キャッシュフロー表!AM41 -> 2805.154 | N36: =IF(L36<0,"赤字","") | O36: =IF(M36<0,"枯渇","") | P36: =キャッシュフロー表!AM25 -> 0 | Q36: =キャッシュフロー表!AM34 -> 0
J37: =キャッシュフロー表!AN3 -> 2060 | K37: =キャッシュフロー表!AN4 -> 84 | L37: =キャッシュフロー表!AN36 -> 0 | M37: =キャッシュフロー表!AN41 -> 2833.2055 | N37: =IF(L37<0,"赤字","") | O37: =IF(M37<0,"枯渇","") | P37: =キャッシュフロー表!AN25 -> 0 | Q37: =キャッシュフロー表!AN34 -> 0
J38: =キャッシュフロー表!AO3 -> 2061 | K38: =キャッシュフロー表!AO4 -> 85 | L38: =キャッシュフロー表!AO36 -> 0 | M38: =キャッシュフロー表!AO41 -> 2861.5376 | N38: =IF(L38<0,"赤字","") | O38: =IF(M38<0,"枯渇","") | P38: =キャッシュフロー表!AO25 -> 0 | Q38: =キャッシュフロー表!AO34 -> 0
J39: =キャッシュフロー表!AP3 -> 2062 | K39: =キャッシュフロー表!AP4 -> 86 | L39: =キャッシュフロー表!AP36 -> 0 | M39: =キャッシュフロー表!AP41 -> 2890.1529 | N39: =IF(L39<0,"赤字","") | O39: =IF(M39<0,"枯渇","") | P39: =キャッシュフロー表!AP25 -> 0 | Q39: =キャッシュフロー表!AP34 -> 0
J40: =キャッシュフロー表!AQ3 -> 2063 | K40: =キャッシュフロー表!AQ4 -> 87 | L40: =キャッシュフロー表!AQ36 -> 0 | M40: =キャッシュフロー表!AQ41 -> 2919.0545 | N40: =IF(L40<0,"赤字","") | O40: =IF(M40<0,"枯渇","") | P40: =キャッシュフロー表!AQ25 -> 0 | Q40: =キャッシュフロー表!AQ34 -> 0
...
